BEGIN:VCALENDAR
VERSION:2.0
PRODID:spatie/icalendar-generator
DESCRIPTION:Events from RNA Portland Branch
X-WR-CALDESC:Events from RNA Portland Branch
REFRESH-INTERVAL;VALUE=DURATION:PT1440M
X-PUBLISHED-TTL:PT1440M
BEGIN:VTIMEZONE
TZID:Europe/London
BEGIN:STANDARD
DTSTART:20251026T020000Z
TZOFFSETFROM:+0100
TZOFFSETTO:+0000
END:STANDARD
BEGIN:DAYLIGHT
DTSTART:20260329T010000Z
TZOFFSETFROM:+0000
TZOFFSETTO:+0100
END:DAYLIGHT
BEGIN:STANDARD
DTSTART:20261025T020000Z
TZOFFSETFROM:+0100
TZOFFSETTO:+0000
END:STANDARD
END:VTIMEZONE
BEGIN:VTIMEZONE
TZID:UTC
BEGIN:STANDARD
DTSTART:20250725T161416Z
TZOFFSETFROM:+0000
TZOFFSETTO:+0000
END:STANDARD
END:VTIMEZONE
BEGIN:VEVENT
UID:72-50
DTSTAMP:20260421T161416Z
SUMMARY:Veteran's Breakfast
LOCATION:Portland Masonic Hall Victoria Square  Portland  DT5 1AL
ORGANIZER;CN=Webmaster B:MAILTO:webmaster@rnaportland.org
DTSTART;TZID=Europe/London:20260503T093000
DTEND;TZID=Europe/London:20260503T120000
X-ALT-DESC;FMTTYPE=TEXT/HTML:Shipmates Date for your Diary - the attached h
 as been received from Iain Stone\, Lodge Treasurer. As it say's\, you don'
 t have to be a Freemason to attend!  To book a place\, email to veterans@
 dorsetfreemasonry.info \"I am sending this out for Serving or Veteran Mili
 tary or Emergency sevice members of Portland 1037 or any friends&amp;hellip\;
CATEGORIES:Social Event
URL;VALUE=URI:https://rnaportland.org/mc-events/veterans-breakfast/
METHOD:PUBLISH
END:VEVENT
END:VCALENDAR