BEGIN:VCALENDAR
VERSION:2.0
PRODID:spatie/icalendar-generator
DESCRIPTION:Events from RNA Portland Branch
X-WR-CALDESC:Events from RNA Portland Branch
REFRESH-INTERVAL;VALUE=DURATION:PT1440M
X-PUBLISHED-TTL:PT1440M
BEGIN:VTIMEZONE
TZID:Europe/London
BEGIN:STANDARD
DTSTART:20251026T020000Z
TZOFFSETFROM:+0100
TZOFFSETTO:+0000
END:STANDARD
BEGIN:DAYLIGHT
DTSTART:20260329T010000Z
TZOFFSETFROM:+0000
TZOFFSETTO:+0100
END:DAYLIGHT
END:VTIMEZONE
BEGIN:VTIMEZONE
TZID:UTC
BEGIN:STANDARD
DTSTART:20250729T161446Z
TZOFFSETFROM:+0000
TZOFFSETTO:+0000
END:STANDARD
END:VTIMEZONE
BEGIN:VEVENT
UID:62-24
DTSTAMP:20260425T161446Z
SUMMARY:No 4 Area Reunion – Bideford 2026
LOCATION:Durrant House Hotel Heywood Road\, Northam\, Bideford\, Devon\, EX
 39 3QB
ORGANIZER;CN=Webmaster B:MAILTO:webmaster@rnaportland.org
DTSTART;TZID=Europe/London:20260306T150000
DTEND;TZID=Europe/London:20260309T100000
X-ALT-DESC;FMTTYPE=TEXT/HTML:[pdf-embedder url=\"https://rnaportland.org/wp
 -content/uploads/2026/02/Prog.Bideford.v3.2026.02.21.pdf\"]
CATEGORIES:Social Event
URL;VALUE=URI:https://rnaportland.org/mc-events/no-4-area-reunion-bideford-
 2026/
METHOD:PUBLISH
END:VEVENT
END:VCALENDAR